BEGIN:VCALENDAR
PRODID:-//eluceo/ical//2.0/EN
VERSION:2.0
CALSCALE:GREGORIAN
BEGIN:VEVENT
UID:5010162dff63a7182d8bc40a3d1ae3b2
DTSTAMP:20260424T184010Z
SUMMARY:Special screening and Book Signing at Triplex Great Barrington
DESCRIPTION:Jewish Federation of the Berkshires\nBerkshire Jewish Community
  Calendar\nhttps://jewishberkshires.org/jewish-federation-of-the-berkshire
 s-calendar/special-screening-and-book-signing-at-triplex-great-barrington-
 1714679623\n\nThe Triplex is thrilled to announce that Sam Kassow\, a lead
 ing historian of Polish Jewry and the Holocaust\, and Stockbridge resident
  Aaron Lansky\, the founder and director of the world-famous Yiddish Book 
 Center in Amherst\, MA will be in a talkback after the showing of the docu
 mentary film “Who Will Write Our History. “The event\, a benefit for t
 he Triplex\, will take place on May 14th at 6:30 pm. Tickets are $100 per 
 person.\n\n“Who Will Write Our History\,” released in 2018\, is a docu
 m...
DTSTART;TZID=America/New_York:20240514T183000
DTEND;TZID=America/New_York:20240514T203000
END:VEVENT
END:VCALENDAR
