BEGIN:VCALENDAR
PRODID:-//eluceo/ical//2.0/EN
VERSION:2.0
CALSCALE:GREGORIAN
BEGIN:VEVENT
UID:9fab9c6a716dde542f83ac3df1190f62
DTSTAMP:20260422T133714Z
SUMMARY:Special Film Screening: “Who Will Write Our Story?” with direct
 or Q&A
DESCRIPTION:Jewish Federation of the Berkshires\nBerkshire Jewish Community
  Calendar\nhttps://jewishberkshires.org/jewish-federation-of-the-berkshire
 s-calendar/special-film-screening-who-will-write-our-story-with-director-q
 a-1534796385\n\nIn Nov. 1940\, days after the Nazis sealed 450\,000 Jews i
 n the Warsaw Ghetto\, a secret band of journalists\, scholars and communit
 y leaders decided to fight back - not with guns or fists but with pen and 
 paper.
DTSTART;TZID=America/New_York:20181110T193000
DTEND;TZID=America/New_York:20181110T213000
END:VEVENT
END:VCALENDAR
