BEGIN:VCALENDAR
PRODID:-//eluceo/ical//2.0/EN
VERSION:2.0
CALSCALE:GREGORIAN
BEGIN:VEVENT
UID:bcb00b8ccff10b0664b94f804d830f0b
DTSTAMP:20260421T130127Z
SUMMARY:Speaking Out and Making Change: Jewish Women’s Legacy of Protest
DESCRIPTION:Jewish Federation of the Berkshires\nBerkshire Jewish Community
  Calendar\nhttps://jewishberkshires.org/jewish-federation-of-the-berkshire
 s-calendar/speaking-out-and-making-change-jewish-womens-legacy-of-protest\
 n\nREGISTER HERE.\n\nJoin Judith Rosenbaum\, CEO of the Boston based Jewis
 h Women’s Archives to learn about the protests of Jewish women\, who thr
 oughout history have fought for change—from communal kitchens to synagog
 ue pews to the halls of Congress.  Explore how Jewish women’s voices an
 d actions reshaped our cultural and political landscape and can guide us t
 oday. \n\nWe are excited to offer this Knosh and Knowledge program in c
 ollaboration with the Boston area Jewish Women’s Archive...
DTSTART;TZID=America/New_York:20250815T104500
DTEND;TZID=America/New_York:20250815T120000
END:VEVENT
END:VCALENDAR
