BEGIN:VCALENDAR
PRODID:-//eluceo/ical//2.0/EN
VERSION:2.0
CALSCALE:GREGORIAN
BEGIN:VEVENT
UID:4b16f75e8420926a59486ec0fe780240
DTSTAMP:20260419T121350Z
SUMMARY:Sparkle Havdalah: A Drag Queen Storyhour for Families
DESCRIPTION:Jewish Federation of the Berkshires\nBerkshire Jewish Community
  Calendar\nhttps://jewishberkshires.org/jewish-federation-of-the-berkshire
 s-calendar/sparkle-havdalah-a-drag-queen-storyhour-for-families-1523462826
 \n\njoin us for a reading of Leslea Newman’s Sparkle Boy
DTSTART;TZID=America/New_York:20180728T160000
DTEND;TZID=America/New_York:20180728T180000
END:VEVENT
END:VCALENDAR
