BEGIN:VCALENDAR
PRODID:-//eluceo/ical//2.0/EN
VERSION:2.0
CALSCALE:GREGORIAN
BEGIN:VEVENT
UID:36dc94aedf2e57b549128b11d7da39ba
DTSTAMP:20260421T184336Z
SUMMARY:Space Race: Nazi Scientists\, the Cold War and Cutting Corners
DESCRIPTION:Jewish Federation of the Berkshires\nBerkshire Jewish Community
  Calendar\nhttps://jewishberkshires.org/jewish-federation-of-the-berkshire
 s-calendar/space-race-nazi-scientists-the-cold-war-and-cutting-corners\n\n
 Via Zoom\n\nRegister Here\n\nOn July 20\, 1969\, Neil Armstrong was the fi
 rst man to step on the moon. Join radio journalist and newspaper columnist
  Evan Weiner as he explores the unique roots of the US space program and 
 discusses the race against the Russians with its twisted starts\, stop\, s
 uccesses\, and failures that eventually resulted in this historic achievem
 ent.\n\nEvan Weiner is a radio journalist\, newspaper columnist\, and auth
 or who has written and reported extensively about the impact...
DTSTART;TZID=America/New_York:20211115T184500
DTEND;TZID=America/New_York:20211115T194500
END:VEVENT
END:VCALENDAR
