BEGIN:VCALENDAR
PRODID:-//eluceo/ical//2.0/EN
VERSION:2.0
CALSCALE:GREGORIAN
BEGIN:VEVENT
UID:8d0b5de76830fbbf891bf1e3f000aa41
DTSTAMP:20260421T114256Z
SUMMARY:Small Federation Virtual Ethiopian Mission
DESCRIPTION:Jewish Federation of the Berkshires\nBerkshire Jewish Community
  Calendar\nhttps://jewishberkshires.org/jewish-federation-of-the-berkshire
 s-calendar/small-federation-virtual-ethiopian-mission\n\nVIa Zoom\n\nRegis
 ter Here\n\nFor decades\, Small Federations have partnered with the Ethiop
 ian Israeli community to address barriers to their full and successful int
 egration into Israeli society. As Israeli society evolves\, and as the Ali
 yah from Ethiopia continues\, what will the future of our partnership look
  like?\n\nJoin JFNA for an exclusive Small Federation virtual journey to E
 thiopia and Israel. Hear personal stories and achievements of members of t
 he Ethiopian Jewish community and learn...
DTSTART;TZID=America/New_York:20220110T120000
DTEND;TZID=America/New_York:20220110T130000
END:VEVENT
END:VCALENDAR
