BEGIN:VCALENDAR
PRODID:-//eluceo/ical//2.0/EN
VERSION:2.0
CALSCALE:GREGORIAN
BEGIN:VEVENT
UID:aa1ee0340b50c47aa5ee62b6cd44b197
DTSTAMP:20260422T195831Z
SUMMARY:Skinners: Appraisals at the Mansion
DESCRIPTION:Jewish Federation of the Berkshires\nBerkshire Jewish Community
  Calendar\nhttps://jewishberkshires.org/jewish-federation-of-the-berkshire
 s-calendar/skinners-appraisals-at-the-mansion-24748\n\nSkinners: Appraisal
 s at the Mansion
DTSTART;TZID=America/New_York:20130725T120000
DTEND;TZID=America/New_York:20130725T170000
END:VEVENT
END:VCALENDAR
