BEGIN:VCALENDAR
PRODID:-//eluceo/ical//2.0/EN
VERSION:2.0
CALSCALE:GREGORIAN
BEGIN:VEVENT
UID:4d882558aef2dab97f81a23ab6a9977d
DTSTAMP:20260419T145319Z
SUMMARY:Sisterhood Shabbat
DESCRIPTION:Jewish Federation of the Berkshires\nBerkshire Jewish Community
  Calendar\nhttps://jewishberkshires.org/jewish-federation-of-the-berkshire
 s-calendar/sisterhood-shabbat\n\nSisterhood Shabbat
DTSTART;TZID=America/New_York:20130510T053000
DTEND;TZID=America/New_York:20130510T184500
END:VEVENT
END:VCALENDAR
