BEGIN:VCALENDAR
PRODID:-//eluceo/ical//2.0/EN
VERSION:2.0
CALSCALE:GREGORIAN
BEGIN:VEVENT
UID:064d4158fa30fd5b85ee2c087bd9f52f
DTSTAMP:20260421T053016Z
SUMMARY:Signs & Wonders: Religious and Spiritual Fiction
DESCRIPTION:Jewish Federation of the Berkshires\nBerkshire Jewish Community
  Calendar\nhttps://jewishberkshires.org/jewish-federation-of-the-berkshire
 s-calendar/signs--wonders-religious-and-spiritual-fiction-1427894602\n\nJo
 in Rabbi Josh Breindel for an inspiring exploration of the human condition
  through fiction and film.  Each session will feature several short storie
 s and multimedia clips – authors will range from I. B. Singer to C. S. L
 ewis\, from  Isaac Asimov to Steven Spielberg.  Participants may attend on
 e or all of the sessions.  A wine and dessert reception will be served at 
 each session.
DTSTART;TZID=America/New_York:20150715T193000
DTEND;TZID=America/New_York:20150715T203000
END:VEVENT
END:VCALENDAR
