BEGIN:VCALENDAR
PRODID:-//eluceo/ical//2.0/EN
VERSION:2.0
CALSCALE:GREGORIAN
BEGIN:VEVENT
UID:b621acf6290031d66fecdb12debd4ff9
DTSTAMP:20260423T212731Z
SUMMARY:#ShowUpForShabbat at CBI
DESCRIPTION:Jewish Federation of the Berkshires\nBerkshire Jewish Community
  Calendar\nhttps://jewishberkshires.org/jewish-federation-of-the-berkshire
 s-calendar/showupforshabbat-at-cbi-1571842171\n\nBring your friends of all
  faiths to join us on Saturday\, October 26 beginning at 9:30 AM for Congr
 egation Beth Israel's weekly Shabbat services\, led by Rabbi Pam Wax.
DTSTART;TZID=America/New_York:20191026T093000
DTEND;TZID=America/New_York:20191026T113000
END:VEVENT
END:VCALENDAR
