BEGIN:VCALENDAR
PRODID:-//eluceo/ical//2.0/EN
VERSION:2.0
CALSCALE:GREGORIAN
BEGIN:VEVENT
UID:252180df0d759224202f8df5785850c5
DTSTAMP:20260424T013129Z
SUMMARY:Short Films: “Mandala Beats” and “Joe’s Violin”
DESCRIPTION:Jewish Federation of the Berkshires\nBerkshire Jewish Community
  Calendar\nhttps://jewishberkshires.org/jewish-federation-of-the-berkshire
 s-calendar/short-films-mandala-beats-and-joes-violin-1534797911\n\n&quot\;
 Joe&#039\;s Violin&quot\; shows how the power of music can bring light in 
 the darkest of times. In &quot\;Mandala Beats\,&quot\; an Israeli bassist 
 encounters a world of Jewish music in India.
DTSTART;TZID=America/New_York:20190106T140000
DTEND;TZID=America/New_York:20190106T153000
END:VEVENT
END:VCALENDAR
