BEGIN:VCALENDAR
PRODID:-//eluceo/ical//2.0/EN
VERSION:2.0
CALSCALE:GREGORIAN
BEGIN:VEVENT
UID:a0d606471f172e9fa886d0bf5a2b322b
DTSTAMP:20260419T133111Z
SUMMARY:Shofar Factory coming to the Berkshires!
DESCRIPTION:Jewish Federation of the Berkshires\nBerkshire Jewish Community
  Calendar\nhttps://jewishberkshires.org/jewish-federation-of-the-berkshire
 s-calendar/shofar-factory-coming-to-the-berkshires-1460146746\n\nThe world
  renown Shofar Factory will be coming to the Berkshires for the first time
  in fifteen years!\nAll are welcome! Regardless of background or affiliati
 on!
DTSTART;TZID=America/New_York:20160828T163000
DTEND;TZID=America/New_York:20160828T163000
END:VEVENT
END:VCALENDAR
