BEGIN:VCALENDAR
PRODID:-//eluceo/ical//2.0/EN
VERSION:2.0
CALSCALE:GREGORIAN
BEGIN:VEVENT
UID:c9ee8b290be8f147c7b0a15c3de948c2
DTSTAMP:20260421T080345Z
SUMMARY:Shirei Shabbat with Community Shabbat Dinner
DESCRIPTION:Jewish Federation of the Berkshires\nBerkshire Jewish Community
  Calendar\nhttps://jewishberkshires.org/jewish-federation-of-the-berkshire
 s-calendar/shirei-shabbat-with-community-shabbat-dinner-1680104438\n\nShir
 ei Shabbat with Community Shabbat Dinner Join the Knesset Israel Band for 
 an upbeat musical Friday night service including many contemporary melodie
 s. Weather permitting the service will be held under the tent in the backy
 ard. Register in advance for the community dinner following the service: k
 nessetisrael.org/rsvp. Dinner is $20 for adults\, Free for under 18. Spons
 ored by Knesset Israel. More info at: knessetisrael.org/RSVP or (413) 445-
 4872
DTSTART;TZID=America/New_York:20230630T174500
DTEND;TZID=America/New_York:20230630T203000
END:VEVENT
END:VCALENDAR
