BEGIN:VCALENDAR
PRODID:-//eluceo/ical//2.0/EN
VERSION:2.0
CALSCALE:GREGORIAN
BEGIN:VEVENT
UID:4dd7f52c367f88aaa8449a640193ba1b
DTSTAMP:20260424T221115Z
SUMMARY:Shirei Shabbat (in memory of Ralph Goodman)
DESCRIPTION:Jewish Federation of the Berkshires\nBerkshire Jewish Community
  Calendar\nhttps://jewishberkshires.org/jewish-federation-of-the-berkshire
 s-calendar/shirei-shabbat-in-memory-of-ralph-goodman-24851\n\nShirei Shabb
 at
DTSTART;TZID=America/New_York:20131115T173000
DTEND;TZID=America/New_York:20131115T203000
END:VEVENT
END:VCALENDAR
