BEGIN:VCALENDAR
PRODID:-//eluceo/ical//2.0/EN
VERSION:2.0
CALSCALE:GREGORIAN
BEGIN:VEVENT
UID:d2c8dd880bb8226f57fac83e4820cd0b
DTSTAMP:20260425T191409Z
SUMMARY:Shirei Shabbat honoring Ed Udel
DESCRIPTION:Jewish Federation of the Berkshires\nBerkshire Jewish Community
  Calendar\nhttps://jewishberkshires.org/jewish-federation-of-the-berkshire
 s-calendar/shirei-shabbat-honoring-ed-udel-1510850366\n\nShirei Shabbat ho
 noring Ed Udel for being a past president
DTSTART;TZID=America/New_York:20181019T173000
DTEND;TZID=America/New_York:20181019T203000
END:VEVENT
END:VCALENDAR
