BEGIN:VCALENDAR
PRODID:-//eluceo/ical//2.0/EN
VERSION:2.0
CALSCALE:GREGORIAN
BEGIN:VEVENT
UID:f1519ae304da3b60e48d59cb2e21e07c
DTSTAMP:20260419T190932Z
SUMMARY:Shirei Shabbat Dinner 
DESCRIPTION:Jewish Federation of the Berkshires\nBerkshire Jewish Community
  Calendar\nhttps://jewishberkshires.org/jewish-federation-of-the-berkshire
 s-calendar/shirei-shabbat-dinner-1449594298\n\nMusical Kabbalat Shabbat Se
 rvice: 5:30pmDinner: 6:30 pm\, $18 per adult
DTSTART;TZID=America/New_York:20160304T173000
DTEND;TZID=America/New_York:20160304T203000
END:VEVENT
END:VCALENDAR
