BEGIN:VCALENDAR
PRODID:-//eluceo/ical//2.0/EN
VERSION:2.0
CALSCALE:GREGORIAN
BEGIN:VEVENT
UID:2dade44d8c02fbbe3b331eb71df7a40a
DTSTAMP:20260425T235127Z
SUMMARY:Shirei Shabbat Dinner 
DESCRIPTION:Jewish Federation of the Berkshires\nBerkshire Jewish Community
  Calendar\nhttps://jewishberkshires.org/jewish-federation-of-the-berkshire
 s-calendar/shirei-shabbat-dinner-1449593963\n\nMusical Kabbalat Shabbat Se
 rvice: 5:30pm\n\nDinner: 6:30 pm\, $18 per adult
DTSTART;TZID=America/New_York:20160122T173000
DTEND;TZID=America/New_York:20160122T203000
END:VEVENT
END:VCALENDAR
