BEGIN:VCALENDAR
PRODID:-//eluceo/ical//2.0/EN
VERSION:2.0
CALSCALE:GREGORIAN
BEGIN:VEVENT
UID:4f0ba6f92794f93197b6cf70e6bbecd7
DTSTAMP:20260422T194027Z
SUMMARY:Shirei Shabbat and Community Dinner
DESCRIPTION:Jewish Federation of the Berkshires\nBerkshire Jewish Community
  Calendar\nhttps://jewishberkshires.org/jewish-federation-of-the-berkshire
 s-calendar/shirei-shabbat-and-community-dinner-1776867598\n\nJoin friends 
 at Knesset Israel for an energizing\, musical Friday evening service\, the
 n stay for a delicious kosher shabbat dinner. Registration necessary for d
 inner. Adults $25\, Under 18 Free.
DTSTART;TZID=America/New_York:20260807T054500
DTEND;TZID=America/New_York:20260807T083000
END:VEVENT
END:VCALENDAR
