BEGIN:VCALENDAR
PRODID:-//eluceo/ical//2.0/EN
VERSION:2.0
CALSCALE:GREGORIAN
BEGIN:VEVENT
UID:e964bdd5a467aad8d386b4a7ac11f8d0
DTSTAMP:20260423T042032Z
SUMMARY:Shirei Shabbat and Community Dinner
DESCRIPTION:Jewish Federation of the Berkshires\nBerkshire Jewish Community
  Calendar\nhttps://jewishberkshires.org/jewish-federation-of-the-berkshire
 s-calendar/shirei-shabbat-and-community-dinner-1712071499\n\nMusical\, fam
 ily-friendly 'Shirei Shabbat' service at 5:45 - followed by a kosher dinne
 r at 6:45. Registration necessary for dinner. Adults $20\, Under 18 Free.
DTSTART;TZID=America/New_York:20240809T174500
DTEND;TZID=America/New_York:20240809T203000
END:VEVENT
END:VCALENDAR
