BEGIN:VCALENDAR
PRODID:-//eluceo/ical//2.0/EN
VERSION:2.0
CALSCALE:GREGORIAN
BEGIN:VEVENT
UID:23e03923949aa59ee068e8279c06a2eb
DTSTAMP:20260422T194037Z
SUMMARY:Shirei Shabbat and Commnity Dinner
DESCRIPTION:Jewish Federation of the Berkshires\nBerkshire Jewish Community
  Calendar\nhttps://jewishberkshires.org/jewish-federation-of-the-berkshire
 s-calendar/shirei-shabbat-and-commnity-dinner-1776867507\n\nJoin friends a
 t Knesset Israel for an energizing\, musical Friday evening service\, then
  stay for a delicious kosher shabbat dinner. Registration necessary for di
 nner. Adults $25\, Under 18 Free.
DTSTART;TZID=America/New_York:20260710T054500
DTEND;TZID=America/New_York:20260710T203000
END:VEVENT
END:VCALENDAR
