BEGIN:VCALENDAR
PRODID:-//eluceo/ical//2.0/EN
VERSION:2.0
CALSCALE:GREGORIAN
BEGIN:VEVENT
UID:9021483c034eccde6b9bfb17b8a3536a
DTSTAMP:20260422T111527Z
SUMMARY:Shirei Shabbat
DESCRIPTION:Jewish Federation of the Berkshires\nBerkshire Jewish Community
  Calendar\nhttps://jewishberkshires.org/jewish-federation-of-the-berkshire
 s-calendar/shirei-shabbat-1411062294\n\nFamily Shabbat Dinner
DTSTART;TZID=America/New_York:20150508T173000
DTEND;TZID=America/New_York:20150508T200000
END:VEVENT
END:VCALENDAR
