BEGIN:VCALENDAR
PRODID:-//eluceo/ical//2.0/EN
VERSION:2.0
CALSCALE:GREGORIAN
BEGIN:VEVENT
UID:d96d020e90fe8e75b881a394e63c2f11
DTSTAMP:20260423T111516Z
SUMMARY:Shirei Shabbat
DESCRIPTION:Jewish Federation of the Berkshires\nBerkshire Jewish Community
  Calendar\nhttps://jewishberkshires.org/jewish-federation-of-the-berkshire
 s-calendar/shirei-shabbat-1411061308\n\nFamily Shabbat Dinner
DTSTART;TZID=America/New_York:20141114T173000
DTEND;TZID=America/New_York:20141114T200000
END:VEVENT
END:VCALENDAR
