BEGIN:VCALENDAR
PRODID:-//eluceo/ical//2.0/EN
VERSION:2.0
CALSCALE:GREGORIAN
BEGIN:VEVENT
UID:3c5442301cddc0d82c19d70490dfd3b6
DTSTAMP:20260422T011527Z
SUMMARY:Shirei Shabbat- Celebrate Yom Ha'atzmaut
DESCRIPTION:Jewish Federation of the Berkshires\nBerkshire Jewish Community
  Calendar\nhttps://jewishberkshires.org/jewish-federation-of-the-berkshire
 s-calendar/shirei-shabbat--celebrate-yom-haatzmaut-24856\n\nShirei Shabbat
 -Celebrate Yom Ha'atzmaut
DTSTART;TZID=America/New_York:20140509T173000
DTEND;TZID=America/New_York:20140509T203000
END:VEVENT
END:VCALENDAR
