BEGIN:VCALENDAR
PRODID:-//eluceo/ical//2.0/EN
VERSION:2.0
CALSCALE:GREGORIAN
BEGIN:VEVENT
UID:4f2d8b854c4970f2081bd28ed8cfe451
DTSTAMP:20260422T011227Z
SUMMARY:Shavuot Service with Yizkor
DESCRIPTION:Jewish Federation of the Berkshires\nBerkshire Jewish Community
  Calendar\nhttps://jewishberkshires.org/jewish-federation-of-the-berkshire
 s-calendar/shavuot-service-with-yizkor-1429662554\n\nService and Yizkor he
 ld at Ahavath Sholom.
DTSTART;TZID=America/New_York:20150525T100000
DTEND;TZID=America/New_York:20150525T120000
END:VEVENT
END:VCALENDAR
