BEGIN:VCALENDAR
PRODID:-//eluceo/ical//2.0/EN
VERSION:2.0
CALSCALE:GREGORIAN
BEGIN:VEVENT
UID:d5c2d8574335b168ccea3df30a5a68dd
DTSTAMP:20260423T013448Z
SUMMARY:Shavuot--Connecting with Community Lunch
DESCRIPTION:Jewish Federation of the Berkshires\nBerkshire Jewish Community
  Calendar\nhttps://jewishberkshires.org/jewish-federation-of-the-berkshire
 s-calendar/shavuot-connecting-with-community-lunch\n\nJoin us for a festiv
 e Shavuot meal celebrating favorite dairy delights including an ice cream 
 sundae bar!\n\nConversation with a home-cooked kosher lunch around our com
 munity table.  All are welcome! \n\nAdvance lunch reservations are requi
 red and can be made by calling (413) 442-2200 before 9 a.m. on the day of 
 the program.  Suggested donation of $3 for adults over age 60.  $7 for 
 all others. \n\nFederation makes these programs possible through the gene
 rous support of our community.
DTSTART;TZID=America/New_York:20240606T120000
DTEND;TZID=America/New_York:20240606T130000
END:VEVENT
END:VCALENDAR
