BEGIN:VCALENDAR
PRODID:-//eluceo/ical//2.0/EN
VERSION:2.0
CALSCALE:GREGORIAN
BEGIN:VEVENT
UID:6de50ec028db4dee728811c976a4d0d9
DTSTAMP:20260421T133642Z
SUMMARY:Shalom! on Grand
DESCRIPTION:Jewish Federation of the Berkshires\nBerkshire Jewish Community
  Calendar\nhttps://jewishberkshires.org/jewish-federation-of-the-berkshire
 s-calendar/shalom-on-grand\n\nShalom! on Grand
DTSTART;TZID=America/New_York:20131020T120000
DTEND;TZID=America/New_York:20131020T040000
END:VEVENT
END:VCALENDAR
