BEGIN:VCALENDAR
PRODID:-//eluceo/ical//2.0/EN
VERSION:2.0
CALSCALE:GREGORIAN
BEGIN:VEVENT
UID:81c650ea9100859e47230b540c4f4cf2
DTSTAMP:20260420T044554Z
SUMMARY:Shabbat Services at Hevreh of Southern Berkshires
DESCRIPTION:Jewish Federation of the Berkshires\nBerkshire Jewish Community
  Calendar\nhttps://jewishberkshires.org/jewish-federation-of-the-berkshire
 s-calendar/shabbat-services-at-hevreh-of-southern-berkshires-1430492974\n\
 nHevreh of Southern Berkshires celebrates Shabbat every Friday evening dur
 ing the summer. Our services begin at 7:30 pm with an oneg following servi
 ces. On the first Friday evening in June\, July and August our Shabbat ser
 vice begins at 6:00 pm with a pre-neg at 5:30 pm (A little nosh before ser
 vices). Our services are warm and inviting and open to all visitors in Ber
 kshire County. Join us for song and prayer and welcome Shabbat with the He
 vreh Community. For more specific information about our...
DTSTART;TZID=America/New_York:20150522T193000
DTEND;TZID=America/New_York:20150522T210000
END:VEVENT
END:VCALENDAR
