BEGIN:VCALENDAR
PRODID:-//eluceo/ical//2.0/EN
VERSION:2.0
CALSCALE:GREGORIAN
BEGIN:VEVENT
UID:005d20a2c962860aa2a0b7c94486a975
DTSTAMP:20260424T051715Z
SUMMARY:Shabbat Services at Hevreh of Southern Berkshires - Saturday mornin
 g
DESCRIPTION:Jewish Federation of the Berkshires\nBerkshire Jewish Community
  Calendar\nhttps://jewishberkshires.org/jewish-federation-of-the-berkshire
 s-calendar/shabbat-services-at-hevreh-of-southern-berkshires---saturday-mo
 rning-1430493122\n\nSaturday Morning Shabbat services at Hevreh\, 10:00am
DTSTART;TZID=America/New_York:20150502T100000
DTEND;TZID=America/New_York:20150502T120000
END:VEVENT
END:VCALENDAR
