BEGIN:VCALENDAR
PRODID:-//eluceo/ical//2.0/EN
VERSION:2.0
CALSCALE:GREGORIAN
BEGIN:VEVENT
UID:28bdfc4a089bc0faa67bdd7af28f7a28
DTSTAMP:20260422T134352Z
SUMMARY:Shabbat Service and Purim-palooza!
DESCRIPTION:Jewish Federation of the Berkshires\nBerkshire Jewish Community
  Calendar\nhttps://jewishberkshires.org/jewish-federation-of-the-berkshire
 s-calendar/shabbat-service-and-purim-palooza-1421769878\n\nJoin us for a s
 pecial Shabbat service at 5:30 p.m.\, followed by a congregational dinner 
 and Purim-palooza!  Everyone will enjoy a wild and wacky parody of favorit
 e game shows\, with a special Anshe Amunim twist!  Bring groggers\, buzzer
 s and noisemakers and be ready for audience participation at this family-f
 riendly event!
DTSTART;TZID=America/New_York:20150306T173000
DTEND;TZID=America/New_York:20150306T213000
END:VEVENT
END:VCALENDAR
