BEGIN:VCALENDAR
PRODID:-//eluceo/ical//2.0/EN
VERSION:2.0
CALSCALE:GREGORIAN
BEGIN:VEVENT
UID:72bc5779db7575a387af64d3a2b97a2c
DTSTAMP:20260421T013002Z
SUMMARY:Shabbat Picnic & Outdoor Service with Student Cantor Shanna Zell
DESCRIPTION:Jewish Federation of the Berkshires\nBerkshire Jewish Community
  Calendar\nhttps://jewishberkshires.org/jewish-federation-of-the-berkshire
 s-calendar/shabbat-picnic--outdoor-service-with-student-cantor-shanna-zell
 -1463582793\n\nGet into the summer mood as we welcome Shabbat outdoors Tan
 glewood style but in our own backyard. Bring a picnic dinner & blanket\, f
 riends\, family\, and a dessert to share for the Oneg. Join us for a livel
 y and musical Kabbalat Shabbat alfresco. Please note the early start time 
 for this Shabbat. If the weather is inclement\, we will picnic in the sanc
 tuary.
DTSTART;TZID=America/New_York:20160624T180000
DTEND;TZID=America/New_York:20160624T200000
END:VEVENT
END:VCALENDAR
