BEGIN:VCALENDAR
PRODID:-//eluceo/ical//2.0/EN
VERSION:2.0
CALSCALE:GREGORIAN
BEGIN:VEVENT
UID:422dd3d9cbb4e7b695ba4e8baea037a6
DTSTAMP:20260424T013139Z
SUMMARY:Shabbat Lunch and Learn with Rabbi Naamah Kelman and Dr. Elan Esrac
 hi
DESCRIPTION:Jewish Federation of the Berkshires\nBerkshire Jewish Community
  Calendar\nhttps://jewishberkshires.org/jewish-federation-of-the-berkshire
 s-calendar/shabbat-lunch-and-learn-with-rabbi-naamah-kelman-and-dr-elan-es
 rachi-1523120503\n\nRabbi Naamah Kelman is the Dean of the Hebrew Union Co
 llege – Jewish Institute of Religion campus in Jersualem. She is the fir
 st woman rabbi to be ordained in Israel. Dr. Elan Esrachi is a community a
 ctivist and chairs the Ginot Ha’ir Community Council as well as Yeru-Sha
 lem\, the coalition for an inclusive Jerusalem. He is the author of Awaken
 ed Dream – 50 Years of Complex Unification of Jerusalem and the husband 
 of Rabbi Kelman.
DTSTART;TZID=America/New_York:20180526T123000
DTEND;TZID=America/New_York:20180526T140000
END:VEVENT
END:VCALENDAR
