BEGIN:VCALENDAR
PRODID:-//eluceo/ical//2.0/EN
VERSION:2.0
CALSCALE:GREGORIAN
BEGIN:VEVENT
UID:50365f6e9da39eeba2b945c3a0ed9494
DTSTAMP:20260424T220228Z
SUMMARY:Shabbat Hike
DESCRIPTION:Jewish Federation of the Berkshires\nBerkshire Jewish Community
  Calendar\nhttps://jewishberkshires.org/jewish-federation-of-the-berkshire
 s-calendar/shabbat-hike-with-temple-anshe-amunim-1747411297\n\nJoin Temple
  Anshe Amunim for a Shabbat Hike at Bullard Woods\, Stockbridge. We will m
 eet at the Temple at 10:45 am. Open to all levels. Pre-registration is req
 uired at https://tinyurl.com/BullardWoods.
DTSTART;TZID=America/New_York:20250628T104500
DTEND;TZID=America/New_York:20250628T124500
END:VEVENT
END:VCALENDAR
