BEGIN:VCALENDAR
PRODID:-//eluceo/ical//2.0/EN
VERSION:2.0
CALSCALE:GREGORIAN
BEGIN:VEVENT
UID:56bfc52e036688d390a2d594323168a8
DTSTAMP:20260424T113329Z
SUMMARY:Shabbat Hike
DESCRIPTION:Jewish Federation of the Berkshires\nBerkshire Jewish Community
  Calendar\nhttps://jewishberkshires.org/jewish-federation-of-the-berkshire
 s-calendar/shabbat-hike-with-temple-anshe-amunim-1747410902\n\nJoin Temple
  Anshe Amunim for a Shabbat Hike at Canoe Meadows\, Pittsfield. We will me
 et at the Temple at 10:45 am. Open to all levels. Pre-registration is requ
 ired at tinyurl.com/ShabbatHikeCanoeMeadows.
DTSTART;TZID=America/New_York:20250614T104500
DTEND;TZID=America/New_York:20250614T124500
END:VEVENT
END:VCALENDAR
