BEGIN:VCALENDAR
PRODID:-//eluceo/ical//2.0/EN
VERSION:2.0
CALSCALE:GREGORIAN
BEGIN:VEVENT
UID:070b895a66016043f975c856f292ded5
DTSTAMP:20260422T222744Z
SUMMARY:Shabbat Hike with TAA
DESCRIPTION:Jewish Federation of the Berkshires\nBerkshire Jewish Community
  Calendar\nhttps://jewishberkshires.org/jewish-federation-of-the-berkshire
 s-calendar/shabbat-hike-with-taa-1715801149\n\nJoin Temple Anshe Amunim fo
 r a Shabbat Hike at Pleasant Valley Sanctuary\, Lenox. We will meet at the
  Temple at 10:45 am. Open to all levels. Pre-registration is required. Reg
 ister at tinyurl.com/ShabbatHikes2024.
DTSTART;TZID=America/New_York:20240629T104500
DTEND;TZID=America/New_York:20240629T120000
END:VEVENT
END:VCALENDAR
