BEGIN:VCALENDAR
PRODID:-//eluceo/ical//2.0/EN
VERSION:2.0
CALSCALE:GREGORIAN
BEGIN:VEVENT
UID:f835caff58b05db9b61fc42d3a8876b1
DTSTAMP:20260422T144447Z
SUMMARY:Shabbat at Tanglewood
DESCRIPTION:Jewish Federation of the Berkshires\nBerkshire Jewish Community
  Calendar\nhttps://jewishberkshires.org/jewish-federation-of-the-berkshire
 s-calendar/shabbat-at-tanglewood-1479471776\n\nShabbat at Tanglewood with 
 Rabbi Josh and Temple Anshe Amunim. \n
DTSTART;TZID=America/New_York:20170714T183000
DTEND;TZID=America/New_York:20170714T210000
END:VEVENT
END:VCALENDAR
