BEGIN:VCALENDAR
PRODID:-//eluceo/ical//2.0/EN
VERSION:2.0
CALSCALE:GREGORIAN
BEGIN:VEVENT
UID:e4d7137350d1a6807a08369d02c2e54e
DTSTAMP:20260422T031311Z
SUMMARY:Shabbat Across the Berkshires 2024
DESCRIPTION:Jewish Federation of the Berkshires\nBerkshire Jewish Community
  Calendar\nhttps://jewishberkshires.org/jewish-federation-of-the-berkshire
 s-calendar/shabbat-across-the-berkshires-save-the-date\n\nShabbat Across t
 he Berkshires:  Hosted by Knesset Israel\, 16 Colt Rd\, Pittsfield.\n\nJo
 in with friends from across the Berkshire Jewish Community as we come toge
 ther for a musical\, family-friendly Shabbat service led by rabbis from ac
 ross the County\, then stay for a delicious\, volunteer-prepared kosher Sh
 abbat Dinner.   \n\nAll are welcome for services which run from 5:45-6:
 45pm and are free and open to the community.. If you wish to stay for din
 ner after services\, reservations are requ...
DTSTART;TZID=America/New_York:20240607T174500
DTEND;TZID=America/New_York:20240607T184500
END:VEVENT
END:VCALENDAR
