BEGIN:VCALENDAR
PRODID:-//eluceo/ical//2.0/EN
VERSION:2.0
CALSCALE:GREGORIAN
BEGIN:VEVENT
UID:506caf500bd559fef5f731b152b83e59
DTSTAMP:20260422T103421Z
SUMMARY:Shabbat Across the Berkshires Celebrating Israel at 70!
DESCRIPTION:Jewish Federation of the Berkshires\nBerkshire Jewish Community
  Calendar\nhttps://jewishberkshires.org/jewish-federation-of-the-berkshire
 s-calendar/shabbat-across-the-berkshires-celebrating-israel-at-70\n\nCeleb
 rating Israel @ 70
DTSTART;TZID=America/New_York:20180601T181500
DTEND;TZID=America/New_York:20180601T210000
END:VEVENT
END:VCALENDAR
