BEGIN:VCALENDAR
PRODID:-//eluceo/ical//2.0/EN
VERSION:2.0
CALSCALE:GREGORIAN
BEGIN:VEVENT
UID:32fa39791c76c075b51e26e28a840912
DTSTAMP:20260422T094617Z
SUMMARY:Shabbat Across the Berkshires 2025
DESCRIPTION:Jewish Federation of the Berkshires\nBerkshire Jewish Community
  Calendar\nhttps://jewishberkshires.org/jewish-federation-of-the-berkshire
 s-calendar/shabbat-across-the-berkshires-2025\n\nJoin friends from across
  the Berkshire Jewish Community as we welcome Shabbat together with a
  musical\, family-friendly service led by our local Rabbis and then stay f
 or a delicious\, festive oneg.\n\nAll are welcome for services.  To RSVP\
 , please click HERE so we have a sense of how many attending the oneg.\n\n
 This service will also be available via livestream (Vimeo)\n\nClick HERE f
 or Vimeo.  Please use password reflect (no capital letters).\n\nThis even
 t is co-sponsored by The Jewish...
DTSTART;TZID=America/New_York:20250620T180000
DTEND;TZID=America/New_York:20250620T200000
END:VEVENT
END:VCALENDAR
