BEGIN:VCALENDAR
PRODID:-//eluceo/ical//2.0/EN
VERSION:2.0
CALSCALE:GREGORIAN
BEGIN:VEVENT
UID:99c0e2792f88afbf14e942d4a6122e79
DTSTAMP:20260422T174633Z
SUMMARY:Shabbat Across the Berkshires
DESCRIPTION:Jewish Federation of the Berkshires\nBerkshire Jewish Community
  Calendar\nhttps://jewishberkshires.org/jewish-federation-of-the-berkshire
 s-calendar/shabbat-across-the-berkshires\n\nShabbat Across the Berkshires
DTSTART;TZID=America/New_York:20140530T173000
DTEND;TZID=America/New_York:20140530T200000
END:VEVENT
END:VCALENDAR
