BEGIN:VCALENDAR
PRODID:-//eluceo/ical//2.0/EN
VERSION:2.0
CALSCALE:GREGORIAN
BEGIN:VEVENT
UID:af03968c7c92b87a6ad9f611ed56ce6e
DTSTAMP:20260422T215709Z
SUMMARY:A Taste of the Sephardic Rosh Hashanah Seder with Chef Susan Baroca
 s
DESCRIPTION:Jewish Federation of the Berkshires\nBerkshire Jewish Community
  Calendar\nhttps://jewishberkshires.org/jewish-federation-of-the-berkshire
 s-calendar/sephardic-rosh-hashanah-food-demo-with-chef-susan-barocas\n\nRE
 GISTER HERE.\n\nAs Elul and the preparations for the Days of Awe begin\, j
 oin Chef Susan Barocas for an interactive cooking demo\, tasting and learn
 ing how to create meaningful\, memorable Rosh Hashanah experiences with a 
 Sephardic Seder of special blessings and symbolic foods!  \n\nFor over 2
 \,000 years\, Sephardic Jews have been welcoming the new year with a Seder
  that features seven blessings with seven symbolic foods\, deepening the e
 xperience of the holiday. All participants receive a hand...
DTSTART;TZID=America/New_York:20230818T104500
DTEND;TZID=America/New_York:20230818T120000
END:VEVENT
END:VCALENDAR
