BEGIN:VCALENDAR
PRODID:-//eluceo/ical//2.0/EN
VERSION:2.0
CALSCALE:GREGORIAN
BEGIN:VEVENT
UID:63b9dcef7c4822cfe0dbe3e9a0fecbfb
DTSTAMP:20260424T183743Z
SUMMARY:Seniors Acting Up: A Look at Life From a Different Perspective
DESCRIPTION:Jewish Federation of the Berkshires\nBerkshire Jewish Community
  Calendar\nhttps://jewishberkshires.org/jewish-federation-of-the-berkshire
 s-calendar/seniors-acting-up-2026\n\nWith so many challenges facing the wo
 rld daily\, a little laughter is always welcomed. "Seniors Acting Up"\, a 
 group of talented local amateur actors ranging in age from sixties to eigh
 ties was formed by Milton Lestz z”l with short comedic staged readings a
 s their specialty. \n\nThe group this year includes:  Linda Cantoni\, To
 m and Laura Gardner\, Peter McCallion\, Peter Podol\, Denise Roller\, Dian
 e and Mike Farella.  All in the group share a love of community theater a
 nd that makes the perfo...
DTSTART;TZID=America/New_York:20260903T104500
DTEND;TZID=America/New_York:20260903T120000
END:VEVENT
END:VCALENDAR
