BEGIN:VCALENDAR
PRODID:-//eluceo/ical//2.0/EN
VERSION:2.0
CALSCALE:GREGORIAN
BEGIN:VEVENT
UID:c12c4895de2ac7a7028c166b339be6fa
DTSTAMP:20260422T205034Z
SUMMARY:Seniors Acting Up 2024
DESCRIPTION:Jewish Federation of the Berkshires\nBerkshire Jewish Community
  Calendar\nhttps://jewishberkshires.org/jewish-federation-of-the-berkshire
 s-calendar/seniors-acting-up-2024\n\nWith so many challenges facing the wo
 rld daily\, a little laughter is always welcomed. "Seniors Acting Up"\, a 
 group of talented local actors ranging in age from sixties to eighties\, 
 was formed by Milton Lestz. Short comedic staged readings are their specia
 lty. \n\nThe group this year includes:  Peter McCallion\, Denise Roller\
 , Tom and Laura Gardner\, Linda Cantoni\, Sylvia Allan\, Karel Fisher\, an
 d Peter Podol. The readings are directed by Milton Lestz. All in the group
  share a love of communit...
DTSTART;TZID=America/New_York:20240829T104500
DTEND;TZID=America/New_York:20240829T120000
END:VEVENT
END:VCALENDAR
