BEGIN:VCALENDAR
PRODID:-//eluceo/ical//2.0/EN
VERSION:2.0
CALSCALE:GREGORIAN
BEGIN:VEVENT
UID:2629ba532d9e0a97da853aec591f84dd
DTSTAMP:20260419T221513Z
SUMMARY:Seniors Acting Up
DESCRIPTION:Jewish Federation of the Berkshires\nBerkshire Jewish Community
  Calendar\nhttps://jewishberkshires.org/jewish-federation-of-the-berkshire
 s-calendar/seniors-acting-up\n\nWith so many challenges facing the world d
 aily\, a little laughter is always welcomed. "Seniors Acting Up"\, a group
  of talented local actors ranging in age from sixties to eighties\, was fo
 rmed by Milton Lestz. Short comedic staged readings are their specialty. 
 \n\nThe group this year includes:  Peter McCallion\, Denise Roller\, Tom 
 and Laura Gardner\, Linda Cantoni and Peter Podol.The readings are co-dire
 cted by John Trainor and Milton Lestz. All in the group share a love of co
 mmunity theater a...
DTSTART;TZID=America/New_York:20230921T104500
DTEND;TZID=America/New_York:20230921T234500
END:VEVENT
END:VCALENDAR
