BEGIN:VCALENDAR
PRODID:-//eluceo/ical//2.0/EN
VERSION:2.0
CALSCALE:GREGORIAN
BEGIN:VEVENT
UID:e31fbcc23a81e09467c013247bf9a9ff
DTSTAMP:20260423T010005Z
SUMMARY:Selichot Service & Stories followed by dessert reception
DESCRIPTION:Jewish Federation of the Berkshires\nBerkshire Jewish Community
  Calendar\nhttps://jewishberkshires.org/jewish-federation-of-the-berkshire
 s-calendar/selichot-service--stories-followed-by-dessert-reception-1440689
 539\n\nRSVP to Temple Office
DTSTART;TZID=America/New_York:20150905T193000
DTEND;TZID=America/New_York:20150905T213000
END:VEVENT
END:VCALENDAR
