BEGIN:VCALENDAR
PRODID:-//eluceo/ical//2.0/EN
VERSION:2.0
CALSCALE:GREGORIAN
BEGIN:VEVENT
UID:4c9b89109a2a8503a3c3c041c4b5f495
DTSTAMP:20260421T134614Z
SUMMARY:Screening of the film "Gentleman's Agreement"
DESCRIPTION:Jewish Federation of the Berkshires\nBerkshire Jewish Community
  Calendar\nhttps://jewishberkshires.org/jewish-federation-of-the-berkshire
 s-calendar/screening-of-the-film-gentlemans-agreement\n\nThe Jewish Federa
 tion of the Berkshires Connecting with Community will show "Gentleman's Ag
 reement\," a 1947 film with Gregory Peck.
DTSTART;TZID=America/New_York:20161226T104500
DTEND;TZID=America/New_York:20161226T120000
END:VEVENT
END:VCALENDAR
