BEGIN:VCALENDAR
PRODID:-//eluceo/ical//2.0/EN
VERSION:2.0
CALSCALE:GREGORIAN
BEGIN:VEVENT
UID:09bc95ca12cf11cb0f10978fd16a98a4
DTSTAMP:20260424T013439Z
SUMMARY:Screening of the film "Denial"
DESCRIPTION:Jewish Federation of the Berkshires\nBerkshire Jewish Community
  Calendar\nhttps://jewishberkshires.org/jewish-federation-of-the-berkshire
 s-calendar/screening-of-the-film-denial\n\nFilm 
DTSTART;TZID=America/New_York:20200213T104500
DTEND;TZID=America/New_York:20200213T133000
END:VEVENT
END:VCALENDAR
