BEGIN:VCALENDAR
PRODID:-//eluceo/ical//2.0/EN
VERSION:2.0
CALSCALE:GREGORIAN
BEGIN:VEVENT
UID:fa940aedbeff7a6936a53ea4f781721a
DTSTAMP:20260421T173014Z
SUMMARY:Screening of "Paperclips"
DESCRIPTION:Jewish Federation of the Berkshires\nBerkshire Jewish Community
  Calendar\nhttps://jewishberkshires.org/jewish-federation-of-the-berkshire
 s-calendar/screening-of-paperclips\n\nThe Jewish Federation Connecting wit
 h Community series screens Paper Clips\, a film about a class project in r
 ural Tennessee through which students explore the Holocaust. 
DTSTART;TZID=America/New_York:20160211T104500
DTEND;TZID=America/New_York:20160211T120000
END:VEVENT
END:VCALENDAR
