BEGIN:VCALENDAR
PRODID:-//eluceo/ical//2.0/EN
VERSION:2.0
CALSCALE:GREGORIAN
BEGIN:VEVENT
UID:6894cd42513d723e3add94b149006192
DTSTAMP:20260421T184446Z
SUMMARY:Cancelled: Screening of "My Italian Secret"
DESCRIPTION:Jewish Federation of the Berkshires\nBerkshire Jewish Community
  Calendar\nhttps://jewishberkshires.org/jewish-federation-of-the-berkshire
 s-calendar/screening-of-my-italian-secret\n\nThe Jewish Federation Connect
 ing with Community will screen the film My Italian Secret: The Forgotten H
 eroes by Oren Jacoby and narrated by Isabella Rossellini and Robert Loggia
 .
DTSTART;TZID=America/New_York:20200427T104500
DTEND;TZID=America/New_York:20200427T131500
END:VEVENT
END:VCALENDAR
