BEGIN:VCALENDAR
PRODID:-//eluceo/ical//2.0/EN
VERSION:2.0
CALSCALE:GREGORIAN
BEGIN:VEVENT
UID:825852c5f321fe04489617717bae6162
DTSTAMP:20260422T011351Z
SUMMARY:Screening of "It Runs in the Family"
DESCRIPTION:Jewish Federation of the Berkshires\nBerkshire Jewish Community
  Calendar\nhttps://jewishberkshires.org/jewish-federation-of-the-berkshire
 s-calendar/screening-of-it-runs-in-the-family\n\nThe Jewish Federation Con
 necting with Community will screen the film\, It Runs in the Family starri
 ng Kirk Douglas and Michael Douglas.
DTSTART;TZID=America/New_York:20180326T104500
DTEND;TZID=America/New_York:20180326T123000
END:VEVENT
END:VCALENDAR
