BEGIN:VCALENDAR
PRODID:-//eluceo/ical//2.0/EN
VERSION:2.0
CALSCALE:GREGORIAN
BEGIN:VEVENT
UID:99e3c4f015816c848253deae3cd5513b
DTSTAMP:20260419T214052Z
SUMMARY:Screening of film "The Sturgeon Queens"
DESCRIPTION:Jewish Federation of the Berkshires\nBerkshire Jewish Community
  Calendar\nhttps://jewishberkshires.org/jewish-federation-of-the-berkshire
 s-calendar/screening-of-film-the-sturgeon-queens\n\nThe Jewish Federation 
 Connecting with Community will screen the film\, The Sturgeon Queens.  Thi
 s film describes the four generations of a Jewish immigrant family who cre
 ated Russ and Daughters\, the lower east side lox and herring emporium tha
 t continues to thrive today.
DTSTART;TZID=America/New_York:20170918T104500
DTEND;TZID=America/New_York:20170918T120000
END:VEVENT
END:VCALENDAR
